BEGIN:VCALENDAR
VERSION:2.0
PRODID:-//wp-events-plugin.com//7.2.3.1//EN
TZID:America/Los_Angeles
X-WR-TIMEZONE:America/Los_Angeles
BEGIN:VEVENT
UID:2827@parentingoc.com
DTSTART;TZID=America/Los_Angeles:20240815T173000
DTEND;TZID=America/Los_Angeles:20240815T200000
DTSTAMP:20240716T182447Z
URL:https://parentingoc.com/events/westminsters-summer-concerts-2/
SUMMARY:Westminster’s Summer Concerts
DESCRIPTION:Discover a treasury of tunes on Thursday nights at Westminster
 ’s Civic Center Sunken Gardens. Pulp Vixen play top hits from the 90s to
  today on August 1. The C Band lends a Latin vibe to August 15\, while The
  New Originals will have you dancing to 70s &amp\; 80s music on August 22.
  Activities commence at 5:30 pm with music at 6 pm. August 8th’s concert
  is part of Westminster’s National Night Out event.\n\nhttps://www.westm
 inster-ca.gov/departments/community-services/recreation/special-events
ATTACH;FMTTYPE=image/jpeg:https://parentingoc.com/wp-content/uploads/2024/
 07/Untitled-design-4.png
CATEGORIES:Music, Theater &amp; Entertainment,Outdoors &amp; Animals
LOCATION:Westminster’s Civic Center\, 8200 Westminster Boulevard \, Westm
 inster \, CA\, United States
X-APPLE-STRUCTURED-LOCATION;VALUE=URI;X-ADDRESS=8200 Westminster Boulevard 
 \, Westminster \, CA\, United States;X-APPLE-RADIUS=100;X-TITLE=Westminste
 r’s Civic Center:geo:0,0
END:VEVENT
BEGIN:VTIMEZONE
TZID:America/Los_Angeles
X-LIC-LOCATION:America/Los_Angeles
BEGIN:DAYLIGHT
DTSTART:20240310T030000
TZOFFSETFROM:-0800
TZOFFSETTO:-0700
TZNAME:PDT
END:DAYLIGHT
END:VTIMEZONE
END:VCALENDAR