BEGIN:VCALENDAR
VERSION:2.0
PRODID:-//wp-events-plugin.com//7.2.3.1//EN
TZID:America/Los_Angeles
X-WR-TIMEZONE:America/Los_Angeles
BEGIN:VEVENT
UID:2303@parentingoc.com
DTSTART;TZID=America/Los_Angeles:20240528T183000
DTEND;TZID=America/Los_Angeles:20240528T193000
DTSTAMP:20240424T192426Z
URL:https://parentingoc.com/events/tuesday-night-dance-polynesian-4/
SUMMARY:Tuesday Night Dance: Polynesian
DESCRIPTION:To coincide with May being Asian American/Pacific Islander Mont
 h\, Polynesian dance is the focus of this month’s Dance program. Held in
  Argyros Plaza on Tuesday evenings (May 7\, 14\, 21 &amp\; 28) from 6:30 p
 m-7:30pm\, these free lessons are a fun way for folks of all ages and abil
 ities to learn some dance moves from a local expert instructor from Tupua 
 Productions. No experience is required! While free to attend\, please sign
 -up at https://www.scfta.org/shows-events/plaza-pass/.
ATTACH;FMTTYPE=image/jpeg:https://parentingoc.com/wp-content/uploads/2024/
 04/Tuesday-Night-Dance-Polynesian_courtesy-Segerstrom-Center-for-the-Arts.
 web_.jpg
CATEGORIES:Music, Theater &amp; Entertainment
LOCATION:Segerstrom Hall\, 600 Town Center Drive\, Costa Mesa\, United Stat
 es
X-APPLE-STRUCTURED-LOCATION;VALUE=URI;X-ADDRESS=600 Town Center Drive\, Cos
 ta Mesa\, United States;X-APPLE-RADIUS=100;X-TITLE=Segerstrom Hall:geo:0,0
END:VEVENT
BEGIN:VTIMEZONE
TZID:America/Los_Angeles
X-LIC-LOCATION:America/Los_Angeles
BEGIN:DAYLIGHT
DTSTART:20240310T030000
TZOFFSETFROM:-0800
TZOFFSETTO:-0700
TZNAME:PDT
END:DAYLIGHT
END:VTIMEZONE
END:VCALENDAR