BEGIN:VCALENDAR
VERSION:2.0
PRODID:-//wp-events-plugin.com//7.2.3.1//EN
TZID:America/Los_Angeles
X-WR-TIMEZONE:America/Los_Angeles
BEGIN:VEVENT
UID:4291@parentingoc.com
DTSTART;TZID=America/Los_Angeles:20260225T000000
DTEND;TZID=America/Los_Angeles:20260226T000000
DTSTAMP:20260124T003044Z
URL:https://parentingoc.com/events/the-lion-the-witch-and-the-wardrobe-at-
 la-mirada-theatre/
SUMMARY:The Lion\, the Witch and the Wardrobe at La Mirada Theatre
DESCRIPTION:Immerse yourself into the world of Narnia this month. La Mirada
  Theatre will bring C.S. Lewis’ classic story to life for two not-to-mis
 s performances Feb. 25-26\, with tickets ranging from $16.50 to $60.50. Pl
 ease note children under 5 will not be admitted into the theater.\n\nlamir
 adatheatre.com
CATEGORIES:Music, Theater &amp; Entertainment
END:VEVENT
BEGIN:VTIMEZONE
TZID:America/Los_Angeles
X-LIC-LOCATION:America/Los_Angeles
BEGIN:STANDARD
DTSTART:20251102T010000
TZOFFSETFROM:-0700
TZOFFSETTO:-0800
TZNAME:PST
END:STANDARD
END:VTIMEZONE
END:VCALENDAR