BEGIN:VCALENDAR
VERSION:2.0
PRODID:-//wp-events-plugin.com//7.2.3.1//EN
TZID:America/Los_Angeles
X-WR-TIMEZONE:America/Los_Angeles
BEGIN:VEVENT
UID:2508@parentingoc.com
DTSTART;TZID=America/Los_Angeles:20240615T103000
DTEND;TZID=America/Los_Angeles:20240615T130000
DTSTAMP:20240528T192436Z
URL:https://parentingoc.com/events/summer-reading-fun-fest/
SUMMARY:Summer Reading Fun Fest
DESCRIPTION:The Yorba Linda Public Library launches its Summer Reading Prog
 ram with an entertaining event that holds no required reading. On June 15\
 , the public can stop by the library between 10:30 am-1 pm to catch a line
 up of fun stuff\, such as carnival games\, crafts\, and other family-frien
 dly activities. Additionally\, Tony Daniels will perform half-hour magic s
 hows starting at 11 am and 12 pm.\n\nhttps://www.ylpl.org/
CATEGORIES:Education &amp; Workshops
LOCATION:Yorba Linda Public Library\, 4852 Lakeview Ave\, Yorba Linda\, CA\
 , United States
X-APPLE-STRUCTURED-LOCATION;VALUE=URI;X-ADDRESS=4852 Lakeview Ave\, Yorba L
 inda\, CA\, United States;X-APPLE-RADIUS=100;X-TITLE=Yorba Linda Public Li
 brary:geo:0,0
END:VEVENT
BEGIN:VTIMEZONE
TZID:America/Los_Angeles
X-LIC-LOCATION:America/Los_Angeles
BEGIN:DAYLIGHT
DTSTART:20240310T030000
TZOFFSETFROM:-0800
TZOFFSETTO:-0700
TZNAME:PDT
END:DAYLIGHT
END:VTIMEZONE
END:VCALENDAR