BEGIN:VCALENDAR
VERSION:2.0
PRODID:-//wp-events-plugin.com//7.2.3.1//EN
TZID:America/Los_Angeles
X-WR-TIMEZONE:America/Los_Angeles
BEGIN:VEVENT
UID:2609@parentingoc.com
DTSTART;TZID=America/Los_Angeles:20240727T173000
DTEND;TZID=America/Los_Angeles:20240727T200000
DTSTAMP:20240703T151702Z
URL:https://parentingoc.com/events/summer-in-the-city/
SUMMARY:Summer In The City
DESCRIPTION:Where will you find “Summer in the City”? If the city is Ir
 vine\, it will be at Mike Ward Community Park-Woodbridge on July 27 (5:30 
 pm). This free family-friendly event presents a totally rad concert of 80s
  tunes by The Reflexx. Bring picnic-style treats or purchase snacks from g
 ourmet food trucks. Also\, bring low-back chairs and blankets\, and seatin
 g is on a first-come\, first-served basis. Two more Summer in the City con
 certs happen in August.\n\nhttps://www.cityofirvine.org/community-services
 -department/summer-city
CATEGORIES:Music, Theater &amp; Entertainment,Outdoors &amp; Animals
LOCATION:at Mike Ward Community Park-Woodbridge\, 20 Lake Road\, Irvine \, 
 United States
X-APPLE-STRUCTURED-LOCATION;VALUE=URI;X-ADDRESS=20 Lake Road\, Irvine \, Un
 ited States;X-APPLE-RADIUS=100;X-TITLE=at Mike Ward Community Park-Woodbri
 dge:geo:0,0
END:VEVENT
BEGIN:VTIMEZONE
TZID:America/Los_Angeles
X-LIC-LOCATION:America/Los_Angeles
BEGIN:DAYLIGHT
DTSTART:20240310T030000
TZOFFSETFROM:-0800
TZOFFSETTO:-0700
TZNAME:PDT
END:DAYLIGHT
END:VTIMEZONE
END:VCALENDAR