BEGIN:VCALENDAR
VERSION:2.0
PRODID:-//wp-events-plugin.com//7.2.3.1//EN
TZID:America/Los_Angeles
X-WR-TIMEZONE:America/Los_Angeles
BEGIN:VEVENT
UID:668@parentingoc.com
DTSTART;TZID=America/Los_Angeles:20230701T100000
DTEND;TZID=America/Los_Angeles:20230827T170000
DTSTAMP:20230731T183407Z
URL:https://parentingoc.com/events/space-neighbors-exhibit/
SUMMARY:“Space Neighbors” Exhibit
DESCRIPTION:Kids can explore the universe simply by visiting the Children
 ’s Museum of La Habra. Running through August 27\, this exhibition allow
 s visitors to find what’s new in our solar system. You’ll be able to p
 retend to be an astronaut in a space station\, visit a Mars habitat dome\,
  view a model of the Sojourner space rover (on loan from JPL)\, and try ot
 her hands-on\, space-related activities too. The museum is open every day 
 except Mondays.
ATTACH;FMTTYPE=image/jpeg:https://parentingoc.com/wp-content/uploads/2023/
 06/Space-Neighbors-Exhibit-at-Childrens-Museum-of-La-Habra.png
CATEGORIES:Education &amp; Workshops,Kids,Museums &amp; Art
LOCATION:301 S. Euclid Street\, 301 S. Euclid Street\, La Habra\, United St
 ates
X-APPLE-STRUCTURED-LOCATION;VALUE=URI;X-ADDRESS=301 S. Euclid Street\, La H
 abra\, United States;X-APPLE-RADIUS=100;X-TITLE=301 S. Euclid Street:geo:0
 ,0
END:VEVENT
BEGIN:VTIMEZONE
TZID:America/Los_Angeles
X-LIC-LOCATION:America/Los_Angeles
BEGIN:DAYLIGHT
DTSTART:20230312T030000
TZOFFSETFROM:-0800
TZOFFSETTO:-0700
TZNAME:PDT
END:DAYLIGHT
END:VTIMEZONE
END:VCALENDAR