BEGIN:VCALENDAR
VERSION:2.0
PRODID:-//wp-events-plugin.com//7.2.3.1//EN
TZID:America/Los_Angeles
X-WR-TIMEZONE:America/Los_Angeles
BEGIN:VEVENT
UID:1082@parentingoc.com
DTSTART;TZID=America/Los_Angeles:20231015T100000
DTEND;TZID=America/Los_Angeles:20231015T220000
DTSTAMP:20230928T171913Z
URL:https://parentingoc.com/events/silverado-country-fair/
SUMMARY:Silverado Country Fair
DESCRIPTION:Experience some Old West merriment when this high-spirited fair
  returns for the 53rd year. This two-day celebration presents a lineup of 
 rootsy music\, an arts &amp\; crafts fair\, and some yummy grub. It also b
 oasts such whimsical activities as a corn-eating competition\, a best bear
 d competition\, best dressed 1800’s western\, and (new this year) a hill
 billy hippie costume contest! Fair’s hours are 9 am-10 pm October 14 and
  10 am-10 pm October 15.
ATTACH;FMTTYPE=image/jpeg:https://parentingoc.com/wp-content/uploads/2023/
 09/Silverado-Country-Fair_courtesy-Silverado-Country-Fair.web_.jpeg
CATEGORIES:Arts &amp; Crafts,Fairs &amp; Festivals,Food &amp; Drink
LOCATION:Silverado Fairgrounds and Community Center\, 27641 Silverado Canyo
 n Road\, Silverado\, CA\, United States
X-APPLE-STRUCTURED-LOCATION;VALUE=URI;X-ADDRESS=27641 Silverado Canyon Road
 \, Silverado\, CA\, United States;X-APPLE-RADIUS=100;X-TITLE=Silverado Fai
 rgrounds and Community Center:geo:0,0
END:VEVENT
BEGIN:VTIMEZONE
TZID:America/Los_Angeles
X-LIC-LOCATION:America/Los_Angeles
BEGIN:DAYLIGHT
DTSTART:20230312T030000
TZOFFSETFROM:-0800
TZOFFSETTO:-0700
TZNAME:PDT
END:DAYLIGHT
END:VTIMEZONE
END:VCALENDAR