BEGIN:VCALENDAR
VERSION:2.0
PRODID:-//wp-events-plugin.com//7.2.3.1//EN
TZID:America/Los_Angeles
X-WR-TIMEZONE:America/Los_Angeles
BEGIN:VEVENT
UID:196@parentingoc.com
DTSTART;TZID=America/Los_Angeles:20230316T100000
DTEND;TZID=America/Los_Angeles:20230430T190000
DTSTAMP:20230428T170905Z
URL:https://parentingoc.com/events/seven-seas-food-festival/
SUMMARY:Seven Seas Food Festival
DESCRIPTION:Pack your appetite when you travel down to Sea World on select 
 days in April. This annual food fest serves up flavorful delicacies and be
 verages from around the globe\, and guests can try out a variety of vivaci
 ous food &amp\; drink samplers. Fridays\, Saturdays\, and Sundays include 
 additional attractions\, such as live entertainment\, appearances by SeaWo
 rld’s costumed characters\, and the new “FantaSEA of Dreams” firewor
 ks spectacular.
ATTACH;FMTTYPE=image/jpeg:https://parentingoc.com/wp-content/uploads/2023/
 03/Seven-Seas-Food-Festival.web_.jpg
CATEGORIES:Food &amp; Drink
LOCATION:Sea World\, 500 Sea World Dr.\, San Diego\, United States
X-APPLE-STRUCTURED-LOCATION;VALUE=URI;X-ADDRESS=500 Sea World Dr.\, San Die
 go\, United States;X-APPLE-RADIUS=100;X-TITLE=Sea World:geo:0,0
END:VEVENT
BEGIN:VTIMEZONE
TZID:America/Los_Angeles
X-LIC-LOCATION:America/Los_Angeles
BEGIN:DAYLIGHT
DTSTART:20230312T030000
TZOFFSETFROM:-0800
TZOFFSETTO:-0700
TZNAME:PDT
END:DAYLIGHT
END:VTIMEZONE
END:VCALENDAR