BEGIN:VCALENDAR
VERSION:2.0
PRODID:-//wp-events-plugin.com//7.2.3.1//EN
TZID:America/Los_Angeles
X-WR-TIMEZONE:America/Los_Angeles
BEGIN:VEVENT
UID:3101@parentingoc.com
DTSTART;TZID=America/Los_Angeles:20240915T080000
DTEND;TZID=America/Los_Angeles:20240915T100000
DTSTAMP:20240829T172252Z
URL:https://parentingoc.com/events/sensory-friendly-mornings-at-the-cube/
SUMMARY:Sensory Friendly Mornings at the Cube
DESCRIPTION:http://www.discoverycube.org/sensory-friendly-mornings/\n\nOn S
 eptember 15\, the Discover Cube will open its doors early (8 am-10 am) for
  one of its monthly Sensory Friendly Mornings. Sensory-friendly maps\, vis
 ual cue cards\, and welcoming staff allow guests independent exploration t
 hat targets specific interests and needs. There is free admission too for 
 one aide per family (with badge or medical ID). Buy tickets at...\n\nhttps
 ://www.discoverycube.org/orange-county/events/oc-sensory-friendly-mornings
 /
ATTACH;FMTTYPE=image/jpeg:https://parentingoc.com/wp-content/uploads/2024/
 08/Sensory-Friendly-Mornings-at-the-Cube_courtesy-of-Discovery-Cube.genera
 l.web_.jpg
CATEGORIES:Health &amp; Wellness,Museums &amp; Art
LOCATION:Discovery Cube\, 2500 N Main Street\, Santa Ana\, CA\, United Stat
 es
X-APPLE-STRUCTURED-LOCATION;VALUE=URI;X-ADDRESS=2500 N Main Street\, Santa 
 Ana\, CA\, United States;X-APPLE-RADIUS=100;X-TITLE=Discovery Cube:geo:0,0
END:VEVENT
BEGIN:VTIMEZONE
TZID:America/Los_Angeles
X-LIC-LOCATION:America/Los_Angeles
BEGIN:DAYLIGHT
DTSTART:20240310T030000
TZOFFSETFROM:-0800
TZOFFSETTO:-0700
TZNAME:PDT
END:DAYLIGHT
END:VTIMEZONE
END:VCALENDAR