BEGIN:VCALENDAR
VERSION:2.0
PRODID:-//wp-events-plugin.com//7.2.3.1//EN
TZID:America/Los_Angeles
X-WR-TIMEZONE:America/Los_Angeles
BEGIN:VEVENT
UID:2627@parentingoc.com
DTSTART;TZID=America/Los_Angeles:20240718T180000
DTEND;TZID=America/Los_Angeles:20240718T200000
DTSTAMP:20240703T155044Z
URL:https://parentingoc.com/events/san-clementes-summer-concert-series-3/
SUMMARY:San Clemente’s Summer Concert Series
DESCRIPTION:Yachty By Nature docks at the San Clemente Pier on July 11 for 
 the opening night of this free seasonal concert series. The following Thur
 sday\, the music scene shifts to Linda Lane Park where you can catch the E
 ric Roebuck Band. The final July concert offers Sega Genocide playing at t
 he Pier. Shows take place from 6 pm to sunset (approximately 8 pm). Anothe
 r trio of concerts will be held in August.\n\nhttps://www.san-clemente.org
 /recreation-community/special-events\n\n&nbsp\;
CATEGORIES:Music, Theater &amp; Entertainment,Outdoors &amp; Animals
LOCATION:Linda Lane Park\, 400 Linda Lane\, San Clemente\, United States
X-APPLE-STRUCTURED-LOCATION;VALUE=URI;X-ADDRESS=400 Linda Lane\, San Clemen
 te\, United States;X-APPLE-RADIUS=100;X-TITLE=Linda Lane Park:geo:0,0
END:VEVENT
BEGIN:VTIMEZONE
TZID:America/Los_Angeles
X-LIC-LOCATION:America/Los_Angeles
BEGIN:DAYLIGHT
DTSTART:20240310T030000
TZOFFSETFROM:-0800
TZOFFSETTO:-0700
TZNAME:PDT
END:DAYLIGHT
END:VTIMEZONE
END:VCALENDAR