BEGIN:VCALENDAR
VERSION:2.0
PRODID:-//wp-events-plugin.com//7.2.3.1//EN
TZID:America/Los_Angeles
X-WR-TIMEZONE:America/Los_Angeles
BEGIN:VEVENT
UID:1905@parentingoc.com
DTSTART;TZID=America/Los_Angeles;VALUE=DATE:20240101
DTEND;TZID=America/Los_Angeles;VALUE=DATE:20240201
DTSTAMP:20240102T191451Z
URL:https://parentingoc.com/events/rivian-south-coast-theaters-space-dedic
 ation/
SUMMARY:Rivian South Coast Theater's Space Dedication
DESCRIPTION:The Irvine-based electric automaker\, Rivian\, is not only tran
 sforming the way people drive vehiclesm but they also are transforming how
  people go car shipping. The Rivian South Coast Theater (160 South Coast H
 wy.\, Laguna Beach) opned to the public in December. The word "theater" is
 n't being used for dramatic purposes. The historic structure\, known from 
 1935-2015 as the New Lynn Theater\, was given loving multi-year\, site-sen
 sitive resoration by Rivian that created a one-of--kind environment to sho
 wcase its innovative vehicles as well as being a gathering locale for comm
 unity events. Opening weekend featured a variety of events for all ages to
  enjoy. Visit the website for upcoming details. https://rivian.com/
ATTACH;FMTTYPE=image/jpeg:https://parentingoc.com/wp-content/uploads/2024/
 01/Showing-of-Gear-Guard-_-Late-Night-Road-Trip-by-Foster-Huntington-at-Ri
 vians-South-Coast-Theater-scaled.jpg
CATEGORIES:Education &amp; Workshops,Featured,Museums &amp; Art,Music,
 Theater &amp; Entertainment,Things To Do
LOCATION:Rivian South Coast Theater\, 160 South Coast Hwy\, Laguna Beach\, 
 CA\, United States
X-APPLE-STRUCTURED-LOCATION;VALUE=URI;X-ADDRESS=160 South Coast Hwy\, Lagun
 a Beach\, CA\, United States;X-APPLE-RADIUS=100;X-TITLE=Rivian South Coast
  Theater:geo:0,0
END:VEVENT
BEGIN:VTIMEZONE
TZID:America/Los_Angeles
X-LIC-LOCATION:America/Los_Angeles
BEGIN:STANDARD
DTSTART:20231105T010000
TZOFFSETFROM:-0700
TZOFFSETTO:-0800
TZNAME:PST
END:STANDARD
END:VTIMEZONE
END:VCALENDAR