BEGIN:VCALENDAR
VERSION:2.0
PRODID:-//wp-events-plugin.com//7.2.3.1//EN
TZID:America/Los_Angeles
X-WR-TIMEZONE:America/Los_Angeles
BEGIN:VEVENT
UID:2840@parentingoc.com
DTSTART;TZID=America/Los_Angeles:20240825T170000
DTEND;TZID=America/Los_Angeles:20240825T190000
DTSTAMP:20240716T190115Z
URL:https://parentingoc.com/events/rancho-los-alamitos-summer-concert-seri
 es-3/
SUMMARY:Rancho Los Alamitos Summer Concert Series
DESCRIPTION:The final concert in this summer’s series is an August 25 per
 formance from the LA-band Be Very Careful\, whose music is inspired by Col
 ombian cumbia music. Doors open at 4:30 pm with this all-ages “after-hou
 rs” performance happening between 5 pm-7 pm. There’s a free shuttle se
 rvice from CSULB Parking Lot G13. RSVPs are encouraged for this free show\
 ; go to https://www.rancholosalamitos.org/events.html for an RSVP link.\n\
 nhttps://www.rancholosalamitos.org/events.html
ATTACH;FMTTYPE=image/jpeg:https://parentingoc.com/wp-content/uploads/2024/
 07/Rancho-Los-Alamitos-SummerConcert_courtesy-Rancho-Los-Alamitos.general.
 web_.jpg
CATEGORIES:Music, Theater &amp; Entertainment,Outdoors &amp; Animals
LOCATION:CSULB Parking Lot G13\, 6400 E Bixby Hill Road\, Long Beach \, Uni
 ted States
X-APPLE-STRUCTURED-LOCATION;VALUE=URI;X-ADDRESS=6400 E Bixby Hill Road\, Lo
 ng Beach \, United States;X-APPLE-RADIUS=100;X-TITLE=CSULB Parking Lot G13
 :geo:0,0
END:VEVENT
BEGIN:VTIMEZONE
TZID:America/Los_Angeles
X-LIC-LOCATION:America/Los_Angeles
BEGIN:DAYLIGHT
DTSTART:20240310T030000
TZOFFSETFROM:-0800
TZOFFSETTO:-0700
TZNAME:PDT
END:DAYLIGHT
END:VTIMEZONE
END:VCALENDAR