BEGIN:VCALENDAR
VERSION:2.0
PRODID:-//wp-events-plugin.com//7.2.3.1//EN
TZID:America/Los_Angeles
X-WR-TIMEZONE:America/Los_Angeles
BEGIN:VEVENT
UID:3140@parentingoc.com
DTSTART;TZID=America/Los_Angeles:20241025T160000
DTEND;TZID=America/Los_Angeles:20241025T170000
DTSTAMP:20240926T172435Z
URL:https://parentingoc.com/events/pumpkinpalooza-4/
SUMMARY:PumpkinPalooza
DESCRIPTION:Irvine is hosting a pair of PumpkinPaloozas where families can 
 create their own Jack O’Lanterns. Community services staff will be on ha
 nd to help you decorate your Jack O’Lantern (although no carving will be
  done). The activity is geared for children ages 6-12. Taking place at Irv
 ine’s Heritage Community Center\, the ‘Paloozas will be done on Octobe
 r 25 and October 29 from 4 pm-5 pm. Space is limited. Register at \n\nhttp
 s://secure.yourirvine.org/CA/city-of-irvine/catalog/index/ecdd1b5e1f7dea1d
 32b927886cfa6c7b?filter=c2VhcmNoPVB1bXBraW5QYWxvb3ph\n\n&nbsp\;
CATEGORIES:Arts &amp; Crafts,Halloween
LOCATION:Heritage Community Center\, 14301 Yale Avenue\, Irvine\, CA\, Unit
 ed States
X-APPLE-STRUCTURED-LOCATION;VALUE=URI;X-ADDRESS=14301 Yale Avenue\, Irvine\
 , CA\, United States;X-APPLE-RADIUS=100;X-TITLE=Heritage Community Center:
 geo:0,0
END:VEVENT
BEGIN:VTIMEZONE
TZID:America/Los_Angeles
X-LIC-LOCATION:America/Los_Angeles
BEGIN:DAYLIGHT
DTSTART:20240310T030000
TZOFFSETFROM:-0800
TZOFFSETTO:-0700
TZNAME:PDT
END:DAYLIGHT
END:VTIMEZONE
END:VCALENDAR