BEGIN:VCALENDAR
VERSION:2.0
PRODID:-//wp-events-plugin.com//7.2.3.1//EN
TZID:America/Los_Angeles
X-WR-TIMEZONE:America/Los_Angeles
BEGIN:VEVENT
UID:3327@parentingoc.com
DTSTART;TZID=America/Los_Angeles:20241112T093000
DTEND;TZID=America/Los_Angeles:20241112T133000
DTSTAMP:20241029T195110Z
URL:https://parentingoc.com/events/pumpkin-recycling-impact-event/
SUMMARY:Pumpkin Recycling Impact Event
DESCRIPTION:Now Halloween is over\, are you wondering what to do with your 
 jack o’lanterns? The Discovery Cube OC\, not surprisingly\, has a terrif
 ic – and earth-friendly – solution. You can say “Boo to Landfills”
  by bringing your pumpkins to the Cube’s Main Street parking lot on Nove
 mber 2 (9:30 am-1:30 pm) where your old gourds will be composted during th
 e Science Center’s November Impact Event.\nhttps://www.discoverycube.org
CATEGORIES:Education &amp; Workshops,Outdoors &amp; Animals
LOCATION:Discovery Cube\, 2500 N. Main Street \, Santa Ana\, United States
X-APPLE-STRUCTURED-LOCATION;VALUE=URI;X-ADDRESS=2500 N. Main Street \, Sant
 a Ana\, United States;X-APPLE-RADIUS=100;X-TITLE=Discovery Cube:geo:0,0
END:VEVENT
BEGIN:VTIMEZONE
TZID:America/Los_Angeles
X-LIC-LOCATION:America/Los_Angeles
BEGIN:STANDARD
DTSTART:20241103T010000
TZOFFSETFROM:-0700
TZOFFSETTO:-0800
TZNAME:PST
END:STANDARD
END:VTIMEZONE
END:VCALENDAR