BEGIN:VCALENDAR
VERSION:2.0
PRODID:-//wp-events-plugin.com//7.2.3.1//EN
TZID:America/Los_Angeles
X-WR-TIMEZONE:America/Los_Angeles
BEGIN:VEVENT
UID:2488@parentingoc.com
DTSTART;TZID=America/Los_Angeles:20240604T094500
DTEND;TZID=America/Los_Angeles:20240604T120000
DTSTAMP:20240528T184934Z
URL:https://parentingoc.com/events/pch-explorers-kids-club/
SUMMARY:PCH Explorers Kids Club
DESCRIPTION:Be prepared for a morning of magic\, bubble play\, arts ‘n’
  crafts\, dancing\, face painting\, and more merriment when magician Chris
 topher T. visits the Explorers Kids Club on June 4 from 9:45 am-12 pm. Ano
 ther Kids Club - with another special guest - occurs June 18. Don’t worr
 y\, Christopher T will materialize there again on July 2 and August 6. Fin
 d RSVP info at https://2ndandpch.com/events/. Recommended for ages 2-10.\n
 \nhttps://2ndandpch.com/events/
CATEGORIES:Arts &amp; Crafts,Education &amp; Workshops,Music, Theater
 &amp; Entertainment
LOCATION:Explorers Kids Club\, 6400 Pacific Coast Highway\, Long Beach \, 
 United States
X-APPLE-STRUCTURED-LOCATION;VALUE=URI;X-ADDRESS=6400 Pacific Coast Highway\
 , Long Beach \, United States;X-APPLE-RADIUS=100;X-TITLE=Explorers Kids C
 lub:geo:0,0
END:VEVENT
BEGIN:VTIMEZONE
TZID:America/Los_Angeles
X-LIC-LOCATION:America/Los_Angeles
BEGIN:DAYLIGHT
DTSTART:20240310T030000
TZOFFSETFROM:-0800
TZOFFSETTO:-0700
TZNAME:PDT
END:DAYLIGHT
END:VTIMEZONE
END:VCALENDAR