BEGIN:VCALENDAR
VERSION:2.0
PRODID:-//wp-events-plugin.com//7.2.3.1//EN
TZID:America/Los_Angeles
X-WR-TIMEZONE:America/Los_Angeles
BEGIN:VEVENT
UID:2782@parentingoc.com
DTSTART;TZID=America/Los_Angeles:20240716T094500
DTEND;TZID=America/Los_Angeles:20240716T120000
DTSTAMP:20240707T004847Z
URL:https://parentingoc.com/events/pch-explorers-kids-club-2/
SUMMARY:PCH Explorers Kids Club
DESCRIPTION:Be prepared for a morning of magic\, bubble play\, arts ‘n’
  crafts\, dancing\, face painting\, and more merriment when magician Chris
 topher T. visits the Explorers Kids Club on July 2 from 9:45 am-12 pm. Jul
 y 16 offers a fairy tale-themed morning with Pure Imaginations. Kids Repti
 le Parties will bring along some live animals for their July 30 Explorer K
 ids Club visit. Find RSVP info at https://2ndandpch.com/portfolio/pch-expl
 orer-kids-club/. Recommended for ages 2-10.
CATEGORIES:Arts &amp; Crafts,Education &amp; Workshops
LOCATION:Explorers Kids Club\, 6400 Pacific Coast Highway\, Long Beach \, 
 United States
X-APPLE-STRUCTURED-LOCATION;VALUE=URI;X-ADDRESS=6400 Pacific Coast Highway\
 , Long Beach \, United States;X-APPLE-RADIUS=100;X-TITLE=Explorers Kids C
 lub:geo:0,0
END:VEVENT
BEGIN:VTIMEZONE
TZID:America/Los_Angeles
X-LIC-LOCATION:America/Los_Angeles
BEGIN:DAYLIGHT
DTSTART:20240310T030000
TZOFFSETFROM:-0800
TZOFFSETTO:-0700
TZNAME:PDT
END:DAYLIGHT
END:VTIMEZONE
END:VCALENDAR