BEGIN:VCALENDAR
VERSION:2.0
PRODID:-//wp-events-plugin.com//7.2.3.1//EN
TZID:America/Los_Angeles
X-WR-TIMEZONE:America/Los_Angeles
BEGIN:VEVENT
UID:2492@parentingoc.com
DTSTART;TZID=America/Los_Angeles:20240620T101500
DTEND;TZID=America/Los_Angeles:20240620T111500
DTSTAMP:20240528T185659Z
URL:https://parentingoc.com/events/oc-zoo-preschool-programs-14/
SUMMARY:OC Zoo Preschool Programs
DESCRIPTION:Preschoolers (ages 3-4) can go wild (in a responsible way) at J
 une 7’s Animal Art class and they can learn about animals in their own b
 ackyard during June 20 class. Creatures who live “under the sea” are t
 he focus of June 13’s session. These preschool classes all happen 10:15 
 am-11:15 am. Sessions include hands-on learning\, crafts\, and zoo animal 
 encounters. A parent must accompany a child. Call 714-973-6846 for require
 d registration.\n\nhttps://www.ocparks.com/events/\n\n&nbsp\;
ATTACH;FMTTYPE=image/jpeg:https://parentingoc.com/wp-content/uploads/2024/
 05/OC-Zoo-Preschool-program_courtesy-OC-Zoo.general.web_.jpg
CATEGORIES:Education &amp; Workshops,Outdoors &amp; Animals
LOCATION:1 Irvine Park Road\, 1 Irvine Park Road\, Orange\, United States
X-APPLE-STRUCTURED-LOCATION;VALUE=URI;X-ADDRESS=1 Irvine Park Road\, Orange
 \, United States;X-APPLE-RADIUS=100;X-TITLE=1 Irvine Park Road:geo:0,0
END:VEVENT
BEGIN:VTIMEZONE
TZID:America/Los_Angeles
X-LIC-LOCATION:America/Los_Angeles
BEGIN:DAYLIGHT
DTSTART:20240310T030000
TZOFFSETFROM:-0800
TZOFFSETTO:-0700
TZNAME:PDT
END:DAYLIGHT
END:VTIMEZONE
END:VCALENDAR