BEGIN:VCALENDAR
VERSION:2.0
PRODID:-//wp-events-plugin.com//7.2.3.1//EN
TZID:America/Los_Angeles
X-WR-TIMEZONE:America/Los_Angeles
BEGIN:VEVENT
UID:2797@parentingoc.com
DTSTART;TZID=America/Los_Angeles:20240802T180000
DTEND;TZID=America/Los_Angeles:20240802T220000
DTSTAMP:20240716T172652Z
URL:https://parentingoc.com/events/oc-parks-sunset-cinema-12/
SUMMARY:OC Parks Sunset Cinema 
DESCRIPTION:Irvine Regional Park hosts a free showing of Frozen II on Augus
 t 2 and Napoleon Dynamite\n\non August 9. Next you can catch The Super Mar
 io Bros. Movie (August 16) and the PG-13 rated 13 Going on 30 (August 23) 
 at Laguna Niguel Regional Park. On August 30\, you’ll find The Goonies a
 t Bluff Park at Salt Creek Beach. Pre-screening activities start at 6 pm w
 ith the movies rolling at sundown (around 8 pm).\n\nhttps://www.ocparks.co
 m/news/oc-parks-presents-2024-summer-concert-series-and-sunset-cinema-film
 -series
ATTACH;FMTTYPE=image/jpeg:https://parentingoc.com/wp-content/uploads/2024/
 07/OC-Parks-Sunset-Cinema_courtesy-OC-Parks.Mason-Regional-Park-1.jpg
CATEGORIES:Music, Theater &amp; Entertainment,Outdoors &amp; Animals
LOCATION:Irvine Regional Park\, 1 Irvine Park Rd\, Orange\, United States
X-APPLE-STRUCTURED-LOCATION;VALUE=URI;X-ADDRESS=1 Irvine Park Rd\, Orange\,
  United States;X-APPLE-RADIUS=100;X-TITLE=Irvine Regional Park:geo:0,0
END:VEVENT
BEGIN:VTIMEZONE
TZID:America/Los_Angeles
X-LIC-LOCATION:America/Los_Angeles
BEGIN:DAYLIGHT
DTSTART:20240310T030000
TZOFFSETFROM:-0800
TZOFFSETTO:-0700
TZNAME:PDT
END:DAYLIGHT
END:VTIMEZONE
END:VCALENDAR