BEGIN:VCALENDAR
VERSION:2.0
PRODID:-//wp-events-plugin.com//7.2.3.1//EN
TZID:America/Los_Angeles
X-WR-TIMEZONE:America/Los_Angeles
BEGIN:VEVENT
UID:3176@parentingoc.com
DTSTART;TZID=America/Los_Angeles:20241018T170000
DTEND;TZID=America/Los_Angeles:20241020T190000
DTSTAMP:20241011T192755Z
URL:https://parentingoc.com/events/oc-japan-fair-4/
SUMMARY:OC Japan Fair
DESCRIPTION:The OC Fair &amp\; Event Center again hosts a grand salute to J
 apanese culture\, from Anime and Cosplay to J-Pop music and Kimono models\
 , the OC Japan Fair covers an impressive range of Japenese related attract
 ions. And that's just a few of the examples of the entertainment\, shoppin
 g and food experiences that can be found at this popular Fair on Octobe 18
  (5pm-11pm)\, October 19 (12pm-10pm)\, and October 20 (11am-7pm).\n\nhttps
 ://www.oc-japanfair.com/
ATTACH;FMTTYPE=image/jpeg:https://parentingoc.com/wp-content/uploads/2024/
 10/OC-Japan-Fair.jpg
CATEGORIES:Fairs &amp; Festivals,Food &amp; Drink,Music, Theater &amp;
 Entertainment,Things To Do
END:VEVENT
BEGIN:VTIMEZONE
TZID:America/Los_Angeles
X-LIC-LOCATION:America/Los_Angeles
BEGIN:DAYLIGHT
DTSTART:20240310T030000
TZOFFSETFROM:-0800
TZOFFSETTO:-0700
TZNAME:PDT
END:DAYLIGHT
END:VTIMEZONE
END:VCALENDAR