BEGIN:VCALENDAR
VERSION:2.0
PRODID:-//wp-events-plugin.com//7.2.3.1//EN
TZID:America/Los_Angeles
X-WR-TIMEZONE:America/Los_Angeles
BEGIN:VEVENT
UID:2816@parentingoc.com
DTSTART;TZID=America/Los_Angeles:20240818T170000
DTEND;TZID=America/Los_Angeles:20240818T190000
DTSTAMP:20240716T175517Z
URL:https://parentingoc.com/events/music-in-bluebird-park-7/
SUMMARY:Music In Bluebird Park
DESCRIPTION:Laguna Beach’s Bluebird Park gets filled with music on Sunday
  nights. Laguna’s own The 133 Band will be playing on August 4. Betamaxx
  relives the 80s on August 11\, while August 18 presents The Tina Turner T
 ribute featuring Debby Holiday. Concerts commence at 5 pm and no set up is
  permitted before 3 pm. Low-seating beach chairs are encouraged. Please le
 ave your dogs at home.\n\nhttps://www.lagunabeachcity.net/government/depar
 tments/cultural-arts/performances/concerts-in-the-park#ad-image-11
CATEGORIES:Music, Theater &amp; Entertainment,Outdoors &amp; Animals
LOCATION:Laguna Beach’s Bluebird Park\, 772 Cress Street\, Laguna Beach \
 , United States
X-APPLE-STRUCTURED-LOCATION;VALUE=URI;X-ADDRESS=772 Cress Street\, Laguna B
 each \, United States;X-APPLE-RADIUS=100;X-TITLE=Laguna Beach’s Bluebird
  Park:geo:0,0
END:VEVENT
BEGIN:VTIMEZONE
TZID:America/Los_Angeles
X-LIC-LOCATION:America/Los_Angeles
BEGIN:DAYLIGHT
DTSTART:20240310T030000
TZOFFSETFROM:-0800
TZOFFSETTO:-0700
TZNAME:PDT
END:DAYLIGHT
END:VTIMEZONE
END:VCALENDAR