BEGIN:VCALENDAR
VERSION:2.0
PRODID:-//wp-events-plugin.com//7.2.3.1//EN
TZID:America/Los_Angeles
X-WR-TIMEZONE:America/Los_Angeles
BEGIN:VEVENT
UID:2502@parentingoc.com
DTSTART;TZID=America/Los_Angeles:20240607T100000
DTEND;TZID=America/Los_Angeles:20240607T110000
DTSTAMP:20240528T191310Z
URL:https://parentingoc.com/events/little-folk-club/
SUMMARY:Little Folk Club
DESCRIPTION:Local singer/songwriter Victoria Bailey concludes the spring se
 ssion of her Little Folk Club on June 7 at the Dana Point Harbor. This joy
 ous\, interactive (and free) performance\, which will take place between 1
 0 am-11 am\, is aimed for little folks\, but folks of all ages are invited
 . You also are welcome to bring along an instrument for your child to play
 .\n\nhttps://danapointharbor.com/event/danapointharborlittlefolkclub/2024-
 06-07/
ATTACH;FMTTYPE=image/jpeg:https://parentingoc.com/wp-content/uploads/2024/
 05/Little-Folk-Club_courtesy-Dana-Point-Harbor.jpg
CATEGORIES:Music, Theater &amp; Entertainment
LOCATION:Dana Point Harbor\, 34571 Golden Lantern  \, Dana Point\, United
  States
X-APPLE-STRUCTURED-LOCATION;VALUE=URI;X-ADDRESS=34571 Golden Lantern  \, 
 Dana Point\, United States;X-APPLE-RADIUS=100;X-TITLE=Dana Point Harbor:ge
 o:0,0
END:VEVENT
BEGIN:VTIMEZONE
TZID:America/Los_Angeles
X-LIC-LOCATION:America/Los_Angeles
BEGIN:DAYLIGHT
DTSTART:20240310T030000
TZOFFSETFROM:-0800
TZOFFSETTO:-0700
TZNAME:PDT
END:DAYLIGHT
END:VTIMEZONE
END:VCALENDAR