BEGIN:VCALENDAR
VERSION:2.0
PRODID:-//wp-events-plugin.com//7.2.3.1//EN
TZID:America/Los_Angeles
X-WR-TIMEZONE:America/Los_Angeles
BEGIN:VEVENT
UID:4245@parentingoc.com
DTSTART;TZID=America/Los_Angeles:20251201T160000
DTEND;TZID=America/Los_Angeles:20251231T210000
DTSTAMP:20251104T210537Z
URL:https://parentingoc.com/events/lighting-of-the-bay-and-fire-lights-fes
 tival-6/
SUMMARY:Lighting of the Bay and Fire & Lights Festival
DESCRIPTION:The Newport Dune once again turns its picturesque bay into a wi
 nter wonderland. From November 28-January 3 (4 pm-9 pm)\, the bay will be 
 populated with over 50 lit-up holiday decorations and Christmas trees floa
 ting on its calm waters. Additionally\, the Fire &amp\; Lights Festival wi
 ll be held on Thursdays and Sundays\, presenting family-friendly activitie
 s\, such as live entertainment (including fire dancing performances)\, pho
 tos with Santa\, inflatables\, and more amusements. \n\nhttps://www.newpo
 rtdunes.com/fire-and-lights-festival/\n\n&nbsp\;
ATTACH;FMTTYPE=image/jpeg:https://parentingoc.com/wp-content/uploads/2025/
 10/Untitled-design-25-1.jpg
CATEGORIES:Christmas,Fairs &amp; Festivals,Kids,Music, Theater &amp;
 Entertainment
LOCATION:Newport Dunes\, 1131 Back Bay Drive \, Newport Beach\, CA\, United
  States
X-APPLE-STRUCTURED-LOCATION;VALUE=URI;X-ADDRESS=1131 Back Bay Drive \, Newp
 ort Beach\, CA\, United States;X-APPLE-RADIUS=100;X-TITLE=Newport Dunes:ge
 o:0,0
END:VEVENT
BEGIN:VTIMEZONE
TZID:America/Los_Angeles
X-LIC-LOCATION:America/Los_Angeles
BEGIN:STANDARD
DTSTART:20251102T010000
TZOFFSETFROM:-0700
TZOFFSETTO:-0800
TZNAME:PST
END:STANDARD
END:VTIMEZONE
END:VCALENDAR