BEGIN:VCALENDAR
VERSION:2.0
PRODID:-//wp-events-plugin.com//7.2.3.1//EN
TZID:America/Los_Angeles
X-WR-TIMEZONE:America/Los_Angeles
BEGIN:VEVENT
UID:4229@parentingoc.com
DTSTART;TZID=America/Los_Angeles:20251201T100000
DTEND;TZID=America/Los_Angeles:20251231T210000
DTSTAMP:20251104T204001Z
URL:https://parentingoc.com/events/knotts-merry-farm-8/
SUMMARY:Knott’s Merry Farm
DESCRIPTION:From November 21-January 4. Knott’s again displays its holida
 y spirit with miles of themed garland\, thousands of twinkling lights\, ju
 mbo snowflakes\, and picturesque seasonal settings. Merry Farm’s highlig
 hts include the “Home for the Holidays” show (featuring classic Christ
 mas tunes\, magical dancing toys\, and dazzling snow) and the much-loved i
 ce show starring Snoopy\, the Peanuts Gang\, and world-class skaters. Visi
 tors can also enjoy the Christmas Crafts Village\, Santa's Christmas Cabin
 \, and the nightly Christmas tree lighting ceremony.\n\nhttps://www.knotts
 .com/events/merry-farm\n\n&nbsp\;
ATTACH;FMTTYPE=image/jpeg:https://parentingoc.com/wp-content/uploads/2025/
 10/Untitled-design-16-1.jpg
CATEGORIES:Amusement Parks,Arts &amp; Crafts,Christmas,Kids,Music, Theater
 &amp; Entertainment
LOCATION:Knott's Berry Farm\, 8039 Beach Blvd\, Buena Park\, CA\, United St
 ates
X-APPLE-STRUCTURED-LOCATION;VALUE=URI;X-ADDRESS=8039 Beach Blvd\, Buena Par
 k\, CA\, United States;X-APPLE-RADIUS=100;X-TITLE=Knott's Berry Farm:geo:0
 ,0
END:VEVENT
BEGIN:VTIMEZONE
TZID:America/Los_Angeles
X-LIC-LOCATION:America/Los_Angeles
BEGIN:STANDARD
DTSTART:20251102T010000
TZOFFSETFROM:-0700
TZOFFSETTO:-0800
TZNAME:PST
END:STANDARD
END:VTIMEZONE
END:VCALENDAR