BEGIN:VCALENDAR
VERSION:2.0
PRODID:-//wp-events-plugin.com//7.2.3.1//EN
TZID:America/Los_Angeles
X-WR-TIMEZONE:America/Los_Angeles
BEGIN:VEVENT
UID:4306@parentingoc.com
DTSTART;TZID=America/Los_Angeles:20260313T000000
DTEND;TZID=America/Los_Angeles:20260331T000000
DTSTAMP:20260326T015708Z
URL:https://parentingoc.com/events/knotts-boysenberry-festival-5/
SUMMARY:Knott’s Boysenberry Festival
DESCRIPTION:Oh boy! Springtime means that boysenberry season is back at Kno
 tt’s Berry Farm. From March 13 through April 12\, park-goers can enjoy s
 crumptious pie-eating contests\, live music\, stage performances and other
  “berry” fun\, live activities. Of course\, there will be a vast selec
 tion of boysenberry-related food and drinks to try too\, including over tw
 o dozen new themed delicacies. All of these festivities are done in honor 
 of Knott’s historic roots as a boysenberry farm.\n\nknotts.com
ATTACH;FMTTYPE=image/jpeg:https://parentingoc.com/wp-content/uploads/2023/
 03/Knotts-Boysenberry-Festival_courtesy-of-Knotts-Berry-Farm.jpg
CATEGORIES:Amusement Parks,Featured,Food &amp; Drink,Music, Theater &amp;
 Entertainment,Things To Do
END:VEVENT
BEGIN:VTIMEZONE
TZID:America/Los_Angeles
X-LIC-LOCATION:America/Los_Angeles
BEGIN:DAYLIGHT
DTSTART:20260308T030000
TZOFFSETFROM:-0800
TZOFFSETTO:-0700
TZNAME:PDT
END:DAYLIGHT
END:VTIMEZONE
END:VCALENDAR