BEGIN:VCALENDAR
VERSION:2.0
PRODID:-//wp-events-plugin.com//7.2.3.1//EN
TZID:America/Los_Angeles
X-WR-TIMEZONE:America/Los_Angeles
BEGIN:VEVENT
UID:1053@parentingoc.com
DTSTART;TZID=America/Los_Angeles:20230909T060000
DTEND;TZID=America/Los_Angeles:20230909T153000
DTSTAMP:20230831T200451Z
URL:https://parentingoc.com/events/https-www-cruisinforacure-com/
SUMMARY:Cruisin' For A Cure
DESCRIPTION:One of the largest one-day charity car shows\, Cruisin' For A C
 ure rumbles into the OC Fairgrounds on September 9 (6 am-3:30 pm). More th
 an 3\,000 amazing vehicles – from hot rods and muscle cars to 4x4 and mo
 torcycles will be on display for the public to see. There will be free pro
 state tests for men at the fundraiser\, which raises money to support pros
 tate cancer research at Irvine’s KSK Cancer Center. 
ATTACH;FMTTYPE=image/jpeg:https://parentingoc.com/wp-content/uploads/2023/
 08/cruisin-for-a-cure-courtesy-cruisin-for-a-cure_web.jpg
CATEGORIES:Health &amp; Wellness,Music, Theater &amp;
 Entertainment,Outdoors &amp; Animals
LOCATION:OC Fair & Event Center\, 88 Fair Drive\, Costa Mesa\, CA\, United 
 States
X-APPLE-STRUCTURED-LOCATION;VALUE=URI;X-ADDRESS=88 Fair Drive\, Costa Mesa\
 , CA\, United States;X-APPLE-RADIUS=100;X-TITLE=OC Fair & Event Center:geo
 :0,0
END:VEVENT
BEGIN:VTIMEZONE
TZID:America/Los_Angeles
X-LIC-LOCATION:America/Los_Angeles
BEGIN:DAYLIGHT
DTSTART:20230312T030000
TZOFFSETFROM:-0800
TZOFFSETTO:-0700
TZNAME:PDT
END:DAYLIGHT
END:VTIMEZONE
END:VCALENDAR