BEGIN:VCALENDAR
VERSION:2.0
PRODID:-//wp-events-plugin.com//7.2.3.1//EN
TZID:America/Los_Angeles
X-WR-TIMEZONE:America/Los_Angeles
BEGIN:VEVENT
UID:4252@parentingoc.com
DTSTART;TZID=America/Los_Angeles:20251212T170000
DTEND;TZID=America/Los_Angeles:20251214T210000
DTSTAMP:20251202T220119Z
URL:https://parentingoc.com/events/heritage-hill-historical-parks-holiday-
 lights/
SUMMARY:Heritage Hill Historical Park’s Holiday Lights
DESCRIPTION:Get into the holiday spirit at OC Parks’ Heritage Hill Histor
 ical Park in Lake Forest with Holiday Lights Dec. 12-14\, from 5 to 9 p.m.
  The historical buildings will be decked out with dazzling light displays 
 and seasonal decor. Take some festive photos at holiday-themed ops through
 out the park. Pets are welcome to join the celebration outdoors on leashes
  no longer than 6 feet. The event and parking are free.\n\nocparks.com/her
 itagehill
ATTACH;FMTTYPE=image/jpeg:https://parentingoc.com/wp-content/uploads/2025/
 12/Heritage-Hill-Historical-Parks-Holiday-Lights.jpg
CATEGORIES:Christmas,Free,Outdoors &amp; Animals
LOCATION:25151 Serrano Rd\, 25151 Serrano Rd\, Lake Forest\, United States
X-APPLE-STRUCTURED-LOCATION;VALUE=URI;X-ADDRESS=25151 Serrano Rd\, Lake For
 est\, United States;X-APPLE-RADIUS=100;X-TITLE=25151 Serrano Rd:geo:0,0
END:VEVENT
BEGIN:VTIMEZONE
TZID:America/Los_Angeles
X-LIC-LOCATION:America/Los_Angeles
BEGIN:STANDARD
DTSTART:20251102T010000
TZOFFSETFROM:-0700
TZOFFSETTO:-0800
TZNAME:PST
END:STANDARD
END:VTIMEZONE
END:VCALENDAR