BEGIN:VCALENDAR
VERSION:2.0
PRODID:-//wp-events-plugin.com//7.2.3.1//EN
TZID:America/Los_Angeles
X-WR-TIMEZONE:America/Los_Angeles
BEGIN:VEVENT
UID:454@parentingoc.com
DTSTART;TZID=America/Los_Angeles:20230624T090000
DTEND;TZID=America/Los_Angeles:20230625T170000
DTSTAMP:20230531T182430Z
URL:https://parentingoc.com/events/doheny-surf-and-art-festival/
SUMMARY:Doheny Surf and Art Festival
DESCRIPTION:The great Doheny State Beach is the spot to celebrate Southern 
 California’s great surf culture. On June 24-25 (approximately 9 am-5 pm)
 \, this two-day oceanside event lets folks (and dogs) - young and old alik
 e - bask in summer’s arrival Doho-style. Enjoy the surf contests\, the l
 ive entertainment\, a beer garden (for those in the “old” category) an
 d a variety of art and beach inspired vendor booths.
ATTACH;FMTTYPE=image/jpeg:https://parentingoc.com/wp-content/uploads/2023/
 05/Doney-Surf-and-Artt-Festival.jpg
CATEGORIES:Fairs &amp; Festivals,Museums &amp; Art,Outdoors &amp;
 Animals,Things To Do
LOCATION:25300 Dana Point Harbor Drive\, 25300 Dana Point Harbor Drive \, D
 ana Point\, United States
X-APPLE-STRUCTURED-LOCATION;VALUE=URI;X-ADDRESS=25300 Dana Point Harbor Dri
 ve \, Dana Point\, United States;X-APPLE-RADIUS=100;X-TITLE=25300 Dana Poi
 nt Harbor Drive:geo:0,0
END:VEVENT
BEGIN:VTIMEZONE
TZID:America/Los_Angeles
X-LIC-LOCATION:America/Los_Angeles
BEGIN:DAYLIGHT
DTSTART:20230312T030000
TZOFFSETFROM:-0800
TZOFFSETTO:-0700
TZNAME:PDT
END:DAYLIGHT
END:VTIMEZONE
END:VCALENDAR