BEGIN:VCALENDAR
VERSION:2.0
PRODID:-//wp-events-plugin.com//7.2.3.1//EN
TZID:America/Los_Angeles
X-WR-TIMEZONE:America/Los_Angeles
BEGIN:VEVENT
UID:2781@parentingoc.com
DTSTART;TZID=America/Jamaica:20240726T153000
DTEND;TZID=America/Jamaica:20240728T200000
DTSTAMP:20240707T004309Z
URL:https://parentingoc.com/events/disneys-newsies-3/
SUMMARY:Disney's Newsies
DESCRIPTION:Musical Theatre West stages this inspiring true-life story of y
 oung heroes fighting for justice and freedom. This G-rated musical feature
 s high-energy dance performances and a Tony Award-winning score that inclu
 des well-known tunes “Seize the Day\,” “Carrying the Banner\,” and
  “Santa Fe.” Performances at Long Beach’s Carpenter Center are 8 pm 
 7/12-13\, 19\, 26\; 1 pm 7/14\, 28\; 7:30 pm 7/18\, 2 pm\, 8 pm 7/20\, 27\
 ; 1 pm\, 6 pm 7/21. Get tickets at http://www.musical.org/
CATEGORIES:Music, Theater &amp; Entertainment
LOCATION:Long Beach’s Carpenter Center\, 6200 E Atherton St\, Long Beach\
 , United States
X-APPLE-STRUCTURED-LOCATION;VALUE=URI;X-ADDRESS=6200 E Atherton St\, Long B
 each\, United States;X-APPLE-RADIUS=100;X-TITLE=Long Beach’s Carpenter C
 enter:geo:0,0
END:VEVENT
BEGIN:VTIMEZONE
TZID:America/Jamaica
X-LIC-LOCATION:America/Jamaica
BEGIN:STANDARD
DTSTART:20230727T153000
TZOFFSETFROM:-0500
TZOFFSETTO:-0500
TZNAME:EST
END:STANDARD
END:VTIMEZONE
END:VCALENDAR