BEGIN:VCALENDAR
VERSION:2.0
PRODID:-//wp-events-plugin.com//7.2.3.1//EN
TZID:America/Los_Angeles
X-WR-TIMEZONE:America/Los_Angeles
BEGIN:VEVENT
UID:1403@parentingoc.com
DTSTART;TZID=America/Los_Angeles:20231118T100000
DTEND;TZID=America/Los_Angeles:20231119T160000
DTSTAMP:20231020T210132Z
URL:https://parentingoc.com/events/costa-mesa-cat-extravaganza/
SUMMARY:Costa Mesa Cat Extravaganza
DESCRIPTION:Cat fans will want to hang out at the Hanger on the OC Fairgrou
 nd over the weekend of November 18-19. The fabulous feline attractions inc
 lude a cat competition\, a shopping village\, and the educational Kitty Co
 rner. This event also aims to promote awareness about cat rescues with a p
 ortion of all proceeds getting donated to helping cats in emergency rescue
  situations through The Meserve Foundation. Buy tickets at: https://www.lc
 wwgroup.us/costa-mesa-18-19-november-2023. 
CATEGORIES:Charity,Outdoors &amp; Animals,Sports &amp; Games
LOCATION:OC Fair & Event Center\, 1011-1165 Arlington Dr\, Costa Mesa\, CA\
 , United States
X-APPLE-STRUCTURED-LOCATION;VALUE=URI;X-ADDRESS=1011-1165 Arlington Dr\, Co
 sta Mesa\, CA\, United States;X-APPLE-RADIUS=100;X-TITLE=OC Fair & Event C
 enter:geo:0,0
END:VEVENT
BEGIN:VTIMEZONE
TZID:America/Los_Angeles
X-LIC-LOCATION:America/Los_Angeles
BEGIN:STANDARD
DTSTART:20231105T010000
TZOFFSETFROM:-0700
TZOFFSETTO:-0800
TZNAME:PST
END:STANDARD
END:VTIMEZONE
END:VCALENDAR