BEGIN:VCALENDAR
VERSION:2.0
PRODID:-//wp-events-plugin.com//7.2.3.1//EN
TZID:America/Los_Angeles
X-WR-TIMEZONE:America/Los_Angeles
BEGIN:VEVENT
UID:2697@parentingoc.com
DTSTART;TZID=America/Los_Angeles:20240718T183000
DTEND;TZID=America/Los_Angeles:20240718T200000
DTSTAMP:20240705T142425Z
URL:https://parentingoc.com/events/concerts-in-the-canyon-2/
SUMMARY:Concerts In The Canyon
DESCRIPTION:Come out to Ronald Reagan Park and dance your Thursday nights a
 way from 6:30 pm-8 pm. Knyght Riders fill the night of July 11 with hits f
 rom the 80s &amp\; 90s. July 18 features country rock from 33 Thunder\, wh
 ile Buffett Beach serves up Jimmy Buffett music on July 25. Bring your own
  food or else dine on something from on-site food trucks.\n\nhttps://www.a
 naheim.net/2492/Concerts-in-the-Canyon\n\n&nbsp\;
CATEGORIES:Music, Theater &amp; Entertainment,Outdoors &amp; Animals
LOCATION:Ronald Reagan Park\, 945 S. Weir Canyon Road\, Anaheim\, United St
 ates
X-APPLE-STRUCTURED-LOCATION;VALUE=URI;X-ADDRESS=945 S. Weir Canyon Road\, A
 naheim\, United States;X-APPLE-RADIUS=100;X-TITLE=Ronald Reagan Park:geo:0
 ,0
END:VEVENT
BEGIN:VTIMEZONE
TZID:America/Los_Angeles
X-LIC-LOCATION:America/Los_Angeles
BEGIN:DAYLIGHT
DTSTART:20240310T030000
TZOFFSETFROM:-0800
TZOFFSETTO:-0700
TZNAME:PDT
END:DAYLIGHT
END:VTIMEZONE
END:VCALENDAR