BEGIN:VCALENDAR
VERSION:2.0
PRODID:-//wp-events-plugin.com//7.2.3.1//EN
TZID:America/Los_Angeles
X-WR-TIMEZONE:America/Los_Angeles
BEGIN:VEVENT
UID:2860@parentingoc.com
DTSTART;TZID=America/Los_Angeles:20240818T170000
DTEND;TZID=America/Los_Angeles:20240818T193000
DTSTAMP:20240716T194119Z
URL:https://parentingoc.com/events/concerts-in-hurless-barton-park-6/
SUMMARY:Concerts In Hurless Barton Park
DESCRIPTION:Sunday evenings bring music to Yorba Linda’s Hurless Barton P
 ark (5:30 pm-7 pm). Enjoy the Blue Breeze Band’s soulful sounds on Augus
 t 4\, while Surf’s Up serves up Beach Boys tunes on August 11. The serie
 s concludes August 18 on a country note with Rebel Heart. Food trucks will
  be on-site too. There will also be a free movie in the park on August 17 
 (7:30 pm)\; more info at https://www.yorbalindaca.gov/404/Upcoming-Family-
 Fun-Special-Events
CATEGORIES:Music, Theater &amp; Entertainment,Outdoors &amp; Animals
LOCATION:Yorba Linda’s Hurless Barton Park\, 4601 Casa Loma Ave\, Yorba L
 inda \, United States
X-APPLE-STRUCTURED-LOCATION;VALUE=URI;X-ADDRESS=4601 Casa Loma Ave\, Yorba 
 Linda \, United States;X-APPLE-RADIUS=100;X-TITLE=Yorba Linda’s Hurless 
 Barton Park:geo:0,0
END:VEVENT
BEGIN:VTIMEZONE
TZID:America/Los_Angeles
X-LIC-LOCATION:America/Los_Angeles
BEGIN:DAYLIGHT
DTSTART:20240310T030000
TZOFFSETFROM:-0800
TZOFFSETTO:-0700
TZNAME:PDT
END:DAYLIGHT
END:VTIMEZONE
END:VCALENDAR