BEGIN:VCALENDAR
VERSION:2.0
PRODID:-//wp-events-plugin.com//7.2.3.1//EN
TZID:America/Los_Angeles
X-WR-TIMEZONE:America/Los_Angeles
BEGIN:VEVENT
UID:2618@parentingoc.com
DTSTART;TZID=America/Los_Angeles:20240718T180000
DTEND;TZID=America/Los_Angeles:20240718T200000
DTSTAMP:20240703T153647Z
URL:https://parentingoc.com/events/concerts-in-fountain-valley-sports-park
 -2/
SUMMARY:Concerts in Fountain Valley Sports Park
DESCRIPTION:A trio of concerts will fill Fountain Valley Sports Park with w
 onderful music in July. The Dreamboats launch the series on July 11. The f
 ollowing Thursday showcases the Tijuana Dogs while July 25 offers a trip t
 hrough Journey’s hits with DSB. Concerts occur from 6 pm-8 pm. Each nigh
 t contains non-profit food booths\, a drink garden\, and activities for al
 l ages – plus\, July 11 also holds a Business Expo starting at 5 pm.\n\n
 https://www.fountainvalley.gov/856/Special-Events
CATEGORIES:Music, Theater &amp; Entertainment,Outdoors &amp; Animals
LOCATION:Fountain Valley Sports Park\, 16400 Brookhurst Street\, Fountain V
 alley\, United States
X-APPLE-STRUCTURED-LOCATION;VALUE=URI;X-ADDRESS=16400 Brookhurst Street\, F
 ountain Valley\, United States;X-APPLE-RADIUS=100;X-TITLE=Fountain Valley 
 Sports Park:geo:0,0
END:VEVENT
BEGIN:VTIMEZONE
TZID:America/Los_Angeles
X-LIC-LOCATION:America/Los_Angeles
BEGIN:DAYLIGHT
DTSTART:20240310T030000
TZOFFSETFROM:-0800
TZOFFSETTO:-0700
TZNAME:PDT
END:DAYLIGHT
END:VTIMEZONE
END:VCALENDAR