BEGIN:VCALENDAR
VERSION:2.0
PRODID:-//wp-events-plugin.com//7.2.3.1//EN
TZID:America/Los_Angeles
X-WR-TIMEZONE:America/Los_Angeles
BEGIN:VEVENT
UID:2637@parentingoc.com
DTSTART;TZID=America/Los_Angeles:20240716T170000
DTEND;TZID=America/Los_Angeles:20240716T200000
DTSTAMP:20240703T161307Z
URL:https://parentingoc.com/events/concerts-in-fairview-park-2/
SUMMARY:Concerts In Fairview Park
DESCRIPTION:You’ll get a great view of fine music at Costa Mesa’s Fairv
 iew Park starting at 5 pm. Yachty by Nature headlines July 9’s show with
  Bobby Gray opening. Bren Holmes opens for Flashback Heart Attack on July 
 16. July 23 features Tijuana Dogs and Howard Pattow\, while the Symphony O
 rchestra performs on July 30. Concert nights also feature food trucks and 
 kids activities.\n\nhttps://www.costamesaca.gov/community/annual-events/co
 ncerts-in-the-park
CATEGORIES:Music, Theater &amp; Entertainment,Outdoors &amp; Animals
LOCATION:Fairview Park\, 2525 Placentia Avenue\, Costa Mesa\, United States
X-APPLE-STRUCTURED-LOCATION;VALUE=URI;X-ADDRESS=2525 Placentia Avenue\, Cos
 ta Mesa\, United States;X-APPLE-RADIUS=100;X-TITLE=Fairview Park:geo:0,0
END:VEVENT
BEGIN:VTIMEZONE
TZID:America/Los_Angeles
X-LIC-LOCATION:America/Los_Angeles
BEGIN:DAYLIGHT
DTSTART:20240310T030000
TZOFFSETFROM:-0800
TZOFFSETTO:-0700
TZNAME:PDT
END:DAYLIGHT
END:VTIMEZONE
END:VCALENDAR