BEGIN:VCALENDAR
VERSION:2.0
PRODID:-//wp-events-plugin.com//7.2.3.1//EN
TZID:America/Los_Angeles
X-WR-TIMEZONE:America/Los_Angeles
BEGIN:VEVENT
UID:3145@parentingoc.com
DTSTART;TZID=America/Los_Angeles:20241021T173000
DTEND;TZID=America/Los_Angeles:20241022T193000
DTSTAMP:20240926T180517Z
URL:https://parentingoc.com/events/boo-at-the-zoo-2/
SUMMARY:Boo at the Zoo
DESCRIPTION:https://www.santaanazoo.org/boo-at-the-zoo/\n\nFor the 34th yea
 r\, this Halloween event will again create “merry not scary” memories 
 for families. Everyone can wear a costume and explore the 10 prize station
 s on the Trick-or-Treat Trail\, visit with the zoo’s nocturnal animals\,
  and enjoy a variety of Halloween-themed games and activities (including s
 torytelling\, sing-alongs\, and the “Boofari” Express Train)\, and. Th
 e “Boo” time is 5:30 pm-7:30 pm October 19-20 &amp\; 26-27. Purchase t
 ickets at \n\nhttps://santaanazoo.ticketsauce.com/e/boo-at-the-zoo-2024/t
 ickets\n\n&nbsp\;
CATEGORIES:Halloween,Music, Theater &amp; Entertainment,Outdoors &amp;
 Animals
LOCATION:Santa Ana Zoo\, 1801 East Chestnut Avenue\, Santa Ana\, CA\, Unite
 d States
X-APPLE-STRUCTURED-LOCATION;VALUE=URI;X-ADDRESS=1801 East Chestnut Avenue\,
  Santa Ana\, CA\, United States;X-APPLE-RADIUS=100;X-TITLE=Santa Ana Zoo:g
 eo:0,0
END:VEVENT
BEGIN:VTIMEZONE
TZID:America/Los_Angeles
X-LIC-LOCATION:America/Los_Angeles
BEGIN:DAYLIGHT
DTSTART:20240310T030000
TZOFFSETFROM:-0800
TZOFFSETTO:-0700
TZNAME:PDT
END:DAYLIGHT
END:VTIMEZONE
END:VCALENDAR