BEGIN:VCALENDAR
VERSION:2.0
PRODID:-//wp-events-plugin.com//7.2.3.1//EN
TZID:America/Los_Angeles
X-WR-TIMEZONE:America/Los_Angeles
BEGIN:VEVENT
UID:3149@parentingoc.com
DTSTART;TZID=America/Los_Angeles:20241018T173000
DTEND;TZID=America/Los_Angeles:20241018T213000
DTSTAMP:20240926T182055Z
URL:https://parentingoc.com/events/boo-at-the-oaks/
SUMMARY:Boo at the Oaks
DESCRIPTION:A lucky 13 days before Halloween\, folks are invited to experie
 nce a (slightly) spooky night in Santiago Oaks Regional Park\, learning ab
 out the critters living in this canyon. This all-ages nocturnal adventure 
 contains fun nature stations\, creative crafts\, scavenger hunt for prizes
 \, and guided night hikes. Costumes are okay but you will be hiking on dir
 ty trails. This “Boo” occurs October 18 from 5:30 pm-9:30 pm\; please 
 arrive by 7:30 pm. Sign-up at\n\n https://letsgooutside.org/activities/202
 4/10/18/boo-at-the-oaks-2/. \n\n&nbsp\;
CATEGORIES:Arts &amp; Crafts,Education &amp; Workshops,Halloween
LOCATION:Santiago Oaks Regional Park\, 2145 Windes Drive\, Orange\, United 
 States
X-APPLE-STRUCTURED-LOCATION;VALUE=URI;X-ADDRESS=2145 Windes Drive\, Orange\
 , United States;X-APPLE-RADIUS=100;X-TITLE=Santiago Oaks Regional Park:geo
 :0,0
END:VEVENT
BEGIN:VTIMEZONE
TZID:America/Los_Angeles
X-LIC-LOCATION:America/Los_Angeles
BEGIN:DAYLIGHT
DTSTART:20240310T030000
TZOFFSETFROM:-0800
TZOFFSETTO:-0700
TZNAME:PDT
END:DAYLIGHT
END:VTIMEZONE
END:VCALENDAR