BEGIN:VCALENDAR
VERSION:2.0
PRODID:-//wp-events-plugin.com//7.2.3.1//EN
TZID:America/Los_Angeles
X-WR-TIMEZONE:America/Los_Angeles
BEGIN:VEVENT
UID:2344@parentingoc.com
DTSTART;TZID=America/Los_Angeles:20240614T160000
DTEND;TZID=America/Los_Angeles:20240616T193000
DTSTAMP:20240426T172941Z
URL:https://parentingoc.com/events/beauty-and-the-beast-4/
SUMMARY:Beauty and the Beast
DESCRIPTION:Disney’s Beauty and the Beast may be a tale as “old as time
 \,” but the timeless musical never feels old. San Juan Capistrano’s Ca
 mino Real Playhouse brings this Tony-winning show to life as a special fam
 ily-friendly summer treat. After a 7:30 pm preview show May 24\, regular p
 erformance will be done Fridays-Sundays through June 16. Find showtime det
 ails on its website and purchase tickets at https://www.tix.com/ticket-sal
 es/caminorealplayhouse/1870/?productionidlist=199997\,200305\n\nhttps://ca
 minorealplayhouse.org 
CATEGORIES:Music, Theater &amp; Entertainment
LOCATION:Camino Real Playhouse\, 31776 El Camino Real\, San Juan Capistrano
 \, United States
X-APPLE-STRUCTURED-LOCATION;VALUE=URI;X-ADDRESS=31776 El Camino Real\, San 
 Juan Capistrano\, United States;X-APPLE-RADIUS=100;X-TITLE=Camino Real Pla
 yhouse:geo:0,0
END:VEVENT
BEGIN:VTIMEZONE
TZID:America/Los_Angeles
X-LIC-LOCATION:America/Los_Angeles
BEGIN:DAYLIGHT
DTSTART:20240310T030000
TZOFFSETFROM:-0800
TZOFFSETTO:-0700
TZNAME:PDT
END:DAYLIGHT
END:VTIMEZONE
END:VCALENDAR