BEGIN:VCALENDAR
VERSION:2.0
PRODID:-//wp-events-plugin.com//7.2.3.1//EN
TZID:America/Los_Angeles
X-WR-TIMEZONE:America/Los_Angeles
BEGIN:VEVENT
UID:2526@parentingoc.com
DTSTART;TZID=America/Los_Angeles:20240704T180000
DTEND;TZID=America/Los_Angeles:20240704T213000
DTSTAMP:20240618T190448Z
URL:https://parentingoc.com/events/avca-july-4th-celebration-fireworks/
SUMMARY:AVCA July 4th Celebration & Fireworks 
DESCRIPTION:The Aliso Viejo Community Association presents a day of high-le
 vel fun and low-level fireworks on July 4. Held in the city’s Grand Park
  &amp\; Town Center Amphitheater\, the evening event (6 pm-9:30 pm) offers
  children’s crafts\, carnival games\, community booths\, balloon twister
 s\, airbrush tattoo artists\, and face painters. The band 4X4 performs cla
 ssic rock tunes (7 pm-9 pm) before the colorful 9 pm fireworks show. Check
  its website for AVCA guidelines.\n\nhttps://avca.net/community/calendar/v
 iew/3e1b84ea-5a4a-42ca-a202-22b31a6148f2
CATEGORIES:Arts &amp; Crafts,Fairs &amp; Festivals,Holiday,Music, Theater
 &amp; Entertainment
LOCATION:Grand Park & Town Center Amphitheater\, 6101 City Lights Drive\, A
 liso Viejo\, United States
X-APPLE-STRUCTURED-LOCATION;VALUE=URI;X-ADDRESS=6101 City Lights Drive\, Al
 iso Viejo\, United States;X-APPLE-RADIUS=100;X-TITLE=Grand Park & Town Cen
 ter Amphitheater:geo:0,0
END:VEVENT
BEGIN:VTIMEZONE
TZID:America/Los_Angeles
X-LIC-LOCATION:America/Los_Angeles
BEGIN:DAYLIGHT
DTSTART:20240310T030000
TZOFFSETFROM:-0800
TZOFFSETTO:-0700
TZNAME:PDT
END:DAYLIGHT
END:VTIMEZONE
END:VCALENDAR